BEGIN:VCALENDAR
VERSION:2.0
PRODID:-//ChamberMaster//Event Calendar 2.0//EN
METHOD:PUBLISH
X-PUBLISHED-TTL:P3D
REFRESH-INTERVAL:P3D
CALSCALE:GREGORIAN
BEGIN:VEVENT
DTSTART:20260817T143000Z
DTEND:20260817T220000Z
X-MICROSOFT-CDO-ALLDAYEVENT:FALSE
SUMMARY:St. Croix Valley Habitat for Humanity 1st Annual Golf Tournament: Homes Fore All Classic
DESCRIPTION:Join us on the links at St. Croix National Golf & Event Center\, Monday\, August 17th for a great day of golf and help support our mission to create more homes FORE all!  Registration is limited to 25 "fore"-somes. Polish up those clubs and make plans to hit the links\, Monday\, August 17 at St. Croix National Golf & Event Center in Somerset\, WI.  This course has a special "19th" hole.
X-ALT-DESC;FMTTYPE=text/html:<span style="font-size:16px"><strong><span style="color:rgba(0\, 0\, 0\, 0.87)">Join us on the links at St. Croix National Golf &amp\; Event Center\, Monday\, August 17th for a great day of golf and help support our mission to create more homes FORE all! &nbsp\;Registration&nbsp\;is limited to 25 &quot\;fore&quot\;-somes.&nbsp\;</span><span style="color:rgba(0\, 0\, 0\, 0.87)\; font-family:inter\,helvetica neue\,sans-serif">Polish up those clubs and make plans to hit the links\, Monday\, August 17 at St. Croix National Golf &amp\; Event Center in Somerset\, WI. &nbsp\;This course has a special &quot\;19th&quot\; hole.</span></strong></span>
LOCATION:The tournament will be hosted at St. Croix National Golf and Event Center\, in Somerset\, Wisconsin. With 6\,900 yards of postcard-worthy panoramas\, rolling fairways\, imaginative greens and ball-grabbing bunkers\, award-winning St. Croix National delivers 19 holes of the greatest game on Earth in the most beautiful setting Mother Nature can provide.
UID:e.2450.38714
SEQUENCE:3
DTSTAMP:20260425T220421Z
URL:http://dev.discoverhudsonwi.org/events/details/st-croix-valley-habitat-for-humanity-1st-annual-golf-tournament-homes-fore-all-classic-38714
END:VEVENT

END:VCALENDAR
